BEGIN:VCALENDAR
VERSION:2.0
PRODID:-//Tukios.com/
BEGIN:VEVENT
UID:7d9da33d-b5f5-4642-b8a4-f1a8ebde3595@www.craighurttfuneralhome.com
DTSTAMP:20260423T011749Z
DTSTART:20260425T150000Z
DTEND:20260425T160000Z
SUMMARY:Visitation
DESCRIPTION:
URL:https://www.craighurttfuneralhome.com/obituaries/frieda-manar
LOCATION: 214 W Clinton Ave  Seymour MO 65746
GEO:37.1493404;-92.7697747
END:VEVENT
END:VCALENDAR