BEGIN:VCALENDAR
VERSION:2.0
PRODID:-//Tukios.com/
BEGIN:VEVENT
UID:e921a492-6708-41e7-9cfc-52091a0bbb07@www.craighurttfuneralhome.com
DTSTAMP:20260423T011544Z
DTSTART:20260425T160000Z
DTEND:20260425T170000Z
SUMMARY:Funeral Service
DESCRIPTION:
URL:https://www.craighurttfuneralhome.com/obituaries/frieda-manar
LOCATION: 214 W Clinton Ave  Seymour MO 65746
GEO:37.1493404;-92.7697747
END:VEVENT
END:VCALENDAR