BEGIN:VCALENDAR
VERSION:2.0
PRODID:-//Tukios.com/
BEGIN:VEVENT
UID:617576a3-9ac7-40fe-a82f-7a30871048ca@www.craighurttfuneralhome.com
DTSTAMP:20260423T011749Z
DTSTART:20260425
SUMMARY:Burial
DESCRIPTION:
URL:https://www.craighurttfuneralhome.com/obituaries/frieda-manar
LOCATION: 899 West Clinton Avenue  Seymour MO 65746
GEO:37.1514219;-92.7757826
END:VEVENT
END:VCALENDAR