BEGIN:VCALENDAR
VERSION:2.0
PRODID:-//Tukios.com/
BEGIN:VEVENT
UID:49ed0130-df67-4663-a754-eb3b2021008d@www.craighurttfuneralhome.com
DTSTAMP:20260420T200152Z
DTSTART:20260422T190000Z
DTEND:20260422T200000Z
SUMMARY:Graveside Service
DESCRIPTION:
URL:https://www.craighurttfuneralhome.com/obituaries/johnny-dawson
LOCATION: Missouri 95  Mountain Grove MO 65711
GEO:37.1381657;-92.2630651
END:VEVENT
END:VCALENDAR