BEGIN:VCALENDAR
VERSION:2.0
PRODID:-//Tukios.com/
BEGIN:VEVENT
UID:0879e432-edc8-4d00-8c2f-fa4b8bc6781c@www.craighurttfuneralhome.com
DTSTAMP:20260426T005438Z
DTSTART:20260428T230000Z
DTEND:20260429T010000Z
SUMMARY:Visitation
DESCRIPTION:
URL:https://www.craighurttfuneralhome.com/obituaries/rick-swearengin
LOCATION: 214 W Clinton Ave  Seymour MO 65746
GEO:37.1493404;-92.7697747
END:VEVENT
END:VCALENDAR