BEGIN:VCALENDAR
VERSION:2.0
PRODID:-//Tukios.com/
BEGIN:VEVENT
UID:8609daa7-e779-4872-b1ad-196af31f043d@www.craighurttfuneralhome.com
DTSTAMP:20260426T005357Z
DTSTART:20260429T180000Z
DTEND:20260429T190000Z
SUMMARY:Funeral Service
DESCRIPTION:
URL:https://www.craighurttfuneralhome.com/obituaries/rick-swearengin
LOCATION: 214 W Clinton Ave  Seymour MO 65746
GEO:37.1493404;-92.7697747
END:VEVENT
END:VCALENDAR