BEGIN:VCALENDAR
VERSION:2.0
PRODID:-//Tukios.com/
BEGIN:VEVENT
UID:746201ce-8562-4590-a91a-23273a1ef69f@www.craighurttfuneralhome.com
DTSTAMP:20260426T005733Z
DTSTART:20260429
SUMMARY:Burial
DESCRIPTION:
URL:https://www.craighurttfuneralhome.com/obituaries/rick-swearengin
LOCATION: Gentry Road  Seymour MO 65746
GEO:37.1970216;-92.7989099
END:VEVENT
END:VCALENDAR